BEGIN:VCALENDAR
VERSION:2.0
PRODID:-//ZContent.net//Zap Calendar 1.0//EN
CALSCALE:GREGORIAN
METHOD:PUBLISH
BEGIN:VEVENT
DTSTAMP:20260421T092749
UID:20210225T000000@energyhub.eu/2013
DTSTART:20210225T000000
DTEND:20210226T000000
SUMMARY:Doprovodný program veletrhu TZB EXPO
LOCATION: online
DESCRIPTION:Doprovodný program veletrhu TZB EXPO: online
LAST-MODIFIED:20260421T092749
END:VEVENT
END:VCALENDAR
