BEGIN:VCALENDAR
VERSION:2.0
PRODID:-//ZContent.net//Zap Calendar 1.0//EN
CALSCALE:GREGORIAN
METHOD:PUBLISH
BEGIN:VEVENT
DTSTAMP:20260422T174449
UID:20210728T100000@energyhub.eu/2124
DTSTART:20210728T100000
DTEND:20210728T100000
SUMMARY:Energetické audity a uhlíková stopa
LOCATION: Online
DESCRIPTION:Energetické audity a uhlíková stopa: Online
LAST-MODIFIED:20260422T174449
END:VEVENT
END:VCALENDAR
