BEGIN:VCALENDAR
VERSION:2.0
PRODID:-//ZContent.net//Zap Calendar 1.0//EN
CALSCALE:GREGORIAN
METHOD:PUBLISH
BEGIN:VEVENT
DTSTAMP:20260421T082110
UID:20221130T090000@energyhub.eu/2341
DTSTART:20221130T090000
DTEND:20221201T180000
SUMMARY:Odpadové hospodářství měst a obcí v praxi
LOCATION: Praha, online
DESCRIPTION:Odpadové hospodářství měst a obcí v praxi: Praha, online
LAST-MODIFIED:20260421T082110
END:VEVENT
END:VCALENDAR
